Workbook
Name NativeTimeline_Date: #N/A
Name Slicer_Company: #N/A
Name Slicer_Item_Type: #N/A
Name Slicer_Metal_Type: #N/A
Name Slicer_Years: #N/A

Sheet Data
A1: Metal Type | B1: Item Type | C1: Company | D1: Date | E1: Amount in tons | F1: Revenue per ton | G1: Total Revenue | H1: Year
A2: Aluminum | B2: Can | C2: National Recycling | D2: 41306 | E2: 9 | F2: 100 | G2: =E2*F2 -> 900 | H2: =YEAR(D2) -> 2013
A3: Nickel | B3: Coins | C3: National Recycling | D3: 41305 | E3: 17 | F3: 15 | G3: =E3*F3 -> 255 | H3: =YEAR(D3) -> 2013
A4: Aluminum | B4: Can | C4: Golden State Metals | D4: 41334 | E4: 12 | F4: 50 | G4: =E4*F4 -> 600 | H4: =YEAR(D4) -> 2013
A5: Aluminum | B5: Can | C5: Blue Metals & Recycling | D5: 41260 | E5: 24 | F5: 60 | G5: =E5*F5 -> 1440 | H5: =YEAR(D5) -> 2012
A6: Steel | B6: Hubcaps | C6: Bay Area Recycling | D6: 40946 | E6: 20 | F6: 18 | G6: =E6*F6 -> 360 | H6: =YEAR(D6) -> 2012
A7: Aluminum | B7: Construction Debris | C7: Benny Recycling | D7: 41400 | E7: 25 | F7: 40 | G7: =E7*F7 -> 1000 | H7: =YEAR(D7) -> 2013
A8: Steel | B8: Can | C8: Hal's Diecasting | D8: 41501 | E8: 30 | F8: 6 | G8: =E8*F8 -> 180 | H8: =YEAR(D8) -> 2013
A9: Aluminum | B9: Construction Debris | C9: Steel Recyclers | D9: 41337 | E9: 16 | F9: 30 | G9: =E9*F9 -> 480 | H9: =YEAR(D9) -> 2013
A10: Tin | B10: Miscellaneous | C10: Steel Recyclers | D10: 41441 | E10: 31 | F10: 25 | G10: =E10*F10 -> 775 | H10: =YEAR(D10) -> 2013
A11: Aluminum | B11: Leftover Building Material | C11: City Recycling | D11: 41588 | E11: 44 | F11: 30 | G11: =E11*F11 -> 1320 | H11: =YEAR(D11) -> 2013
A12: Brass | B12: Miscellaneous | C12: Marin Steel | D12: 41622 | E12: 22 | F12: 16 | G12: =E12*F12 -> 352 | H12: =YEAR(D12) -> 2013
A13: Copper | B13: Wire | C13: ABC Metals | D13: 41378 | E13: 18 | F13: 10 | G13: =E13*F13 -> 180 | H13: =YEAR(D13) -> 2013
... A51: Iron | B51: Bumpers | C51: Bay Area Recycling | D51: 41988 | E51: 36 | F51: 90 | G51: =E51*F51 -> 3240 | H51: =YEAR(D51) -> 2014

Sheet Report
B1: Revenue by Metal Type | I1: Revenue by Item Type | P1: Revenue by Company | AC1: 2014 | AD1: Years
AD2: 2012
B3: ="Year(s): "&Charts!$A$2 -> Year(s): 2013 | I3: ="Year(s): "&Charts!$A$2 -> Year(s): 2013 | P3: ="Year(s): "&Charts!$A$2 -> Year(s): 2013 | AD3: 2013
AD4: 2014
B5: ="("&1&")" -> (1) | C5: ="("&-B5+1&")" -> (2) | D5: ="("&-C5+1&")" -> (3) | E5: ="("&-D5+1&")" -> (4) | F5: ="("&-E5+1&")" -> (5) | I5: ="("&1&")" -> (1) | J5: ="("&-I5+1&")" -> (2) | K5: ="("&-J5+1&")" -> (3) | L5: ="("&-K5+1&")" -> (4) | M5: ="("&-L5+1&")" -> (5) | P5: ="("&1&")" -> (1) | Q5: ="("&-P5+1&")" -> (2) | R5: ="("&-Q5+1&")" -> (3) | S5: ="("&-R5+1&")" -> (4) | T5: ="("&-S5+1&")" -> (5)
F6: % of | M6: % of | T6: % of
E7: Revenue | F7: Total | L7: Revenue | M7: Total | S7: Revenue | T7: Total | X7: Incremental | Z7: Cumulative
C8: Amount | D8: Total | E8: per Ton | F8: Revenue | J8: Amount | K8: Total | L8: per Ton | M8: Revenue | Q8: Amount | R8: Total | S8: per Ton | T8: Revenue | X8: Amount | Y8: Total | Z8: Amount | AA8: Total
B9: Item | C9: Sold | D9: Revenue | E9: ="("&-$D$5&")/("&-$C$5&")" -> (3)/(2) | F9: ="("&-$D$5&")/[("&-$D$5&") Total]" -> (3)/[(3) Total] | I9: Item | J9: Sold | K9: Revenue | L9: ="("&-$D$5&")/("&-$C$5&")" -> (3)/(2) | M9: ="("&-$D$5&")/[("&-$D$5&") Total]" -> (3)/[(3) Total] | P9: Item | Q9: Sold | R9: Revenue | S9: ="("&-$D$5&")/("&-$C$5&")" -> (3)/(2) | T9: ="("&-$D$5&")/[("&-$D$5&") Total]" -> (3)/[(3) Total] | W9: Month | X9: Sold | Y9: Revenue | Z9: Sold | AA9: Revenue | AD9: Start | AE9: End
B11: Aluminum | C11: =SUMIFS(Data!E:E,Data!$A:$A,$B11,Data!$H:$H,Charts!$A$2) -> 138 | D11: =SUMIFS(Data!G:G,Data!$A:$A,$B11,Data!$H:$H,Charts!$A$2) -> 5900 | E11: =IF(C11=0,0,D11/C11) -> 42.753623 | F11: =D11/$D$19 -> 0.36417505 | I11: Bumpers | J11: =SUMIFS(Data!E:E,Data!$B:$B,$I11,Data!$H:$H,Charts!$A$2) -> 68 | K11: =SUMIFS(Data!G:G,Data!$B:$B,$I11,Data!$H:$H,Charts!$A$2) -> 1769 | L11: =IF(J11=0,0,K11/J11) -> 26.014706 | M11: =K11/$K$22 -> 0.10919079 | P11: ABC Metals | Q11: =SUMIFS(Data!E:E,Data!$C:$C,$P11,Data!$H:$H,Charts!$A$2) -> 26 | R11: =SUMIFS(Data!G:G,Data!$C:$C,$P11,Data!$H:$H,Charts!$A$2) -> 252 | S11: =IF(Q11=0,0,R11/Q11) -> 9.6923077 | T11: =R11/$R$27 -> 0.015554595 | W11: January | X11: {=SUM(IF(Data!$D$2:$D$51>=$AD11,Data!$E$2:$E$51,0))-SUM(IF(Data!$D$2:$D$51>=$AD12,Data!$E$2:$E$51,0))} -> 115 | Y11: {=SUM(IF(Data!$D$2:$D$51>=$AD11,Data!$G$2:$G$51,0))-SUM(IF(Data!$D$2:$D$51>=$AD12,Data!$G$2:$G$51,0))} -> 4891 | Z11: =SUM($X$11:$X11) -> 115 | AA11: =SUM($Y$11:$Y11) -> 4891 | AD11: =DATE(Charts!$A$2,1,1) -> 41275 | AE11: =DATE(Charts!$A$2,1,31) -> 41305
B12: Brass | C12: =SUMIFS(Data!E:E,Data!$A:$A,$B12,Data!$H:$H,Charts!$A$2) -> 22 | D12: =SUMIFS(Data!G:G,Data!$A:$A,$B12,Data!$H:$H,Charts!$A$2) -> 352 | E12: =IF(C12=0,0,D12/C12) -> 16 | F12: =D12/$D$19 -> 0.021727054 | I12: Can | J12: =SUMIFS(Data!E:E,Data!$B:$B,$I12,Data!$H:$H,Charts!$A$2) -> 56 | K12: =SUMIFS(Data!G:G,Data!$B:$B,$I12,Data!$H:$H,Charts!$A$2) -> 1975 | L12: =IF(J12=0,0,K12/J12) -> 35.267857 | M12: =K12/$K$22 -> 0.12190606 | P12: Bay Area Recycling | Q12: =SUMIFS(Data!E:E,Data!$C:$C,$P12,Data!$H:$H,Charts!$A$2) -> 32 | R12: =SUMIFS(Data!G:G,Data!$C:$C,$P12,Data!$H:$H,Charts!$A$2) -> 1600 | S12: =IF(Q12=0,0,R12/Q12) -> 50 | T12: =R12/$R$27 -> 0.098759336 | W12: February | X12: {=SUM(IF(Data!$D$2:$D$51>=$AD12,Data!$E$2:$E$51,0))-SUM(IF(Data!$D$2:$D$51>=$AD13,Data!$E$2:$E$51,0))} -> 9 | Y12: {=SUM(IF(Data!$D$2:$D$51>=$AD12,Data!$G$2:$G$51,0))-SUM(IF(Data!$D$2:$D$51>=$AD13,Data!$G$2:$G$51,0))} -> 900 | Z12: =SUM($X$11:$X12) -> 124 | AA12: =SUM($Y$11:$Y12) -> 5791 | AD12: =DATE(Charts!$A$2,2,1) -> 41306 | AE12: =DATE(Charts!$A$2,2,28) -> 41333
B13: Copper | C13: =SUMIFS(Data!E:E,Data!$A:$A,$B13,Data!$H:$H,Charts!$A$2) -> 54 | D13: =SUMIFS(Data!G:G,Data!$A:$A,$B13,Data!$H:$H,Charts!$A$2) -> 1148 | E13: =IF(C13=0,0,D13/C13) -> 21.259259 | F13: =D13/$D$19 -> 0.070859823 | I13: Car | J13: =SUMIFS(Data!E:E,Data!$B:$B,$I13,Data!$H:$H,Charts!$A$2) -> 42 | K13: =SUMIFS(Data!G:G,Data!$B:$B,$I13,Data!$H:$H,Charts!$A$2) -> 1932 | L13: =IF(J13=0,0,K13/J13) -> 46 | M13: =K13/$K$22 -> 0.1192519 | P13: Benny Recycling | Q13: =SUMIFS(Data!E:E,Data!$C:$C,$P13,Data!$H:$H,Charts!$A$2) -> 25 | R13: =SUMIFS(Data!G:G,Data!$C:$C,$P13,Data!$H:$H,Charts!$A$2) -> 1000 | S13: =IF(Q13=0,0,R13/Q13) -> 40 | T13: =R13/$R$27 -> 0.061724585 | W13: March | X13: {=SUM(IF(Data!$D$2:$D$51>=$AD13,Data!$E$2:$E$51,0))-SUM(IF(Data!$D$2:$D$51>=$AD14,Data!$E$2:$E$51,0))} -> 56 | Y13: {=SUM(IF(Data!$D$2:$D$51>=$AD13,Data!$G$2:$G$51,0))-SUM(IF(Data!$D$2:$D$51>=$AD14,Data!$G$2:$G$51,0))} -> 1976 | Z13: =SUM($X$11:$X13) -> 180 | AA13: =SUM($Y$11:$Y13) -> 7767 | AD13: =DATE(Charts!$A$2,3,1) -> 41334 | AE13: =DATE(Charts!$A$2,3,31) -> 41364
B14: Iron | C14: =SUMIFS(Data!E:E,Data!$A:$A,$B14,Data!$H:$H,Charts!$A$2) -> 44 | D14: =SUMIFS(Data!G:G,Data!$A:$A,$B14,Data!$H:$H,Charts!$A$2) -> 503 | E14: =IF(C14=0,0,D14/C14) -> 11.431818 | F14: =D14/$D$19 -> 0.031047466 | I14: Coins | J14: =SUMIFS(Data!E:E,Data!$B:$B,$I14,Data!$H:$H,Charts!$A$2) -> 49 | K14: =SUMIFS(Data!G:G,Data!$B:$B,$I14,Data!$H:$H,Charts!$A$2) -> 1855 | L14: =IF(J14=0,0,K14/J14) -> 37.857143 | M14: =K14/$K$22 -> 0.1144991 | P14: Blue Metals & Recycling | Q14: =SUMIFS(Data!E:E,Data!$C:$C,$P14,Data!$H:$H,Charts!$A$2) -> 0 | R14: =SUMIFS(Data!G:G,Data!$C:$C,$P14,Data!$H:$H,Charts!$A$2) -> 0 | S14: =IF(Q14=0,0,R14/Q14) -> 0 | T14: =R14/$R$27 -> 0 | W14: April | X14: {=SUM(IF(Data!$D$2:$D$51>=$AD14,Data!$E$2:$E$51,0))-SUM(IF(Data!$D$2:$D$51>=$AD15,Data!$E$2:$E$51,0))} -> 26 | Y14: {=SUM(IF(Data!$D$2:$D$51>=$AD14,Data!$G$2:$G$51,0))-SUM(IF(Data!$D$2:$D$51>=$AD15,Data!$G$2:$G$51,0))} -> 252 | Z14: =SUM($X$11:$X14) -> 206 | AA14: =SUM($Y$11:$Y14) -> 8019 | AD14: =DATE(Charts!$A$2,4,1) -> 41365 | AE14: =DATE(Charts!$A$2,4,30) -> 41394
B15: Nickel | C15: =SUMIFS(Data!E:E,Data!$A:$A,$B15,Data!$H:$H,Charts!$A$2) -> 50 | D15: =SUMIFS(Data!G:G,Data!$A:$A,$B15,Data!$H:$H,Charts!$A$2) -> 1872 | E15: =IF(C15=0,0,D15/C15) -> 37.44 | F15: =D15/$D$19 -> 0.11554842 | I15: Construction Debris | J15: =SUMIFS(Data!E:E,Data!$B:$B,$I15,Data!$H:$H,Charts!$A$2) -> 119 | K15: =SUMIFS(Data!G:G,Data!$B:$B,$I15,Data!$H:$H,Charts!$A$2) -> 4042 | L15: =IF(J15=0,0,K15/J15) -> 33.966387 | M15: =K15/$K$22 -> 0.24949077 | P15: California Traders | Q15: =SUMIFS(Data!E:E,Data!$C:$C,$P15,Data!$H:$H,Charts!$A$2) -> 35 | R15: =SUMIFS(Data!G:G,Data!$C:$C,$P15,Data!$H:$H,Charts!$A$2) -> 350 | S15: =IF(Q15=0,0,R15/Q15) -> 10 | T15: =R15/$R$27 -> 0.021603605 | W15: May | X15: {=SUM(IF(Data!$D$2:$D$51>=$AD15,Data!$E$2:$E$51,0))-SUM(IF(Data!$D$2:$D$51>=$AD16,Data!$E$2:$E$51,0))} -> 34 | Y15: {=SUM(IF(Data!$D$2:$D$51>=$AD15,Data!$G$2:$G$51,0))-SUM(IF(Data!$D$2:$D$51>=$AD16,Data!$G$2:$G$51,0))} -> 1153 | Z15: =SUM($X$11:$X15) -> 240 | AA15: =SUM($Y$11:$Y15) -> 9172 | AD15: =DATE(Charts!$A$2,5,1) -> 41395 | AE15: =DATE(Charts!$A$2,5,31) -> 41425
B16: Steel | C16: =SUMIFS(Data!E:E,Data!$A:$A,$B16,Data!$H:$H,Charts!$A$2) -> 190 | D16: =SUMIFS(Data!G:G,Data!$A:$A,$B16,Data!$H:$H,Charts!$A$2) -> 5356 | E16: =IF(C16=0,0,D16/C16) -> 28.189474 | F16: =D16/$D$19 -> 0.33059688 | I16: Hubcaps | J16: =SUMIFS(Data!E:E,Data!$B:$B,$I16,Data!$H:$H,Charts!$A$2) -> 28 | K16: =SUMIFS(Data!G:G,Data!$B:$B,$I16,Data!$H:$H,Charts!$A$2) -> 896 | L16: =IF(J16=0,0,K16/J16) -> 32 | M16: =K16/$K$22 -> 0.055305228 | P16: City Recycling | Q16: =SUMIFS(Data!E:E,Data!$C:$C,$P16,Data!$H:$H,Charts!$A$2) -> 77 | R16: =SUMIFS(Data!G:G,Data!$C:$C,$P16,Data!$H:$H,Charts!$A$2) -> 2937 | S16: =IF(Q16=0,0,R16/Q16) -> 38.142857 | T16: =R16/$R$27 -> 0.18128511 | W16: June | X16: {=SUM(IF(Data!$D$2:$D$51>=$AD16,Data!$E$2:$E$51,0))-SUM(IF(Data!$D$2:$D$51>=$AD17,Data!$E$2:$E$51,0))} -> 31 | Y16: {=SUM(IF(Data!$D$2:$D$51>=$AD16,Data!$G$2:$G$51,0))-SUM(IF(Data!$D$2:$D$51>=$AD17,Data!$G$2:$G$51,0))} -> 775 | Z16: =SUM($X$11:$X16) -> 271 | AA16: =SUM($Y$11:$Y16) -> 9947 | AD16: =DATE(Charts!$A$2,6,1) -> 41426 | AE16: =DATE(Charts!$A$2,6,30) -> 41455
B17: Tin | C17: =SUMIFS(Data!E:E,Data!$A:$A,$B17,Data!$H:$H,Charts!$A$2) -> 36 | D17: =SUMIFS(Data!G:G,Data!$A:$A,$B17,Data!$H:$H,Charts!$A$2) -> 1070 | E17: =IF(C17=0,0,D17/C17) -> 29.722222 | F17: =D17/$D$19 -> 0.066045306 | I17: Leftover Building Material | J17: =SUMIFS(Data!E:E,Data!$B:$B,$I17,Data!$H:$H,Charts!$A$2) -> 44 | K17: =SUMIFS(Data!G:G,Data!$B:$B,$I17,Data!$H:$H,Charts!$A$2) -> 1320 | L17: =IF(J17=0,0,K17/J17) -> 30 | M17: =K17/$K$22 -> 0.081476452 | P17: Easy Automotive Repair | Q17: =SUMIFS(Data!E:E,Data!$C:$C,$P17,Data!$H:$H,Charts!$A$2) -> 33 | R17: =SUMIFS(Data!G:G,Data!$C:$C,$P17,Data!$H:$H,Charts!$A$2) -> 1419 | S17: =IF(Q17=0,0,R17/Q17) -> 43 | T17: =R17/$R$27 -> 0.087587186 | W17: July | X17: {=SUM(IF(Data!$D$2:$D$51>=$AD17,Data!$E$2:$E$51,0))-SUM(IF(Data!$D$2:$D$51>=$AD18,Data!$E$2:$E$51,0))} -> 0 | Y17: {=SUM(IF(Data!$D$2:$D$51>=$AD17,Data!$G$2:$G$51,0))-SUM(IF(Data!$D$2:$D$51>=$AD18,Data!$G$2:$G$51,0))} -> 0 | Z17: =SUM($X$11:$X17) -> 271 | AA17: =SUM($Y$11:$Y17) -> 9947 | AD17: =DATE(Charts!$A$2,7,1) -> 41456 | AE17: =DATE(Charts!$A$2,7,31) -> 41486
I18: Miscellaneous | J18: =SUMIFS(Data!E:E,Data!$B:$B,$I18,Data!$H:$H,Charts!$A$2) -> 62 | K18: =SUMIFS(Data!G:G,Data!$B:$B,$I18,Data!$H:$H,Charts!$A$2) -> 1280 | L18: =IF(J18=0,0,K18/J18) -> 20.645161 | M18: =K18/$K$22 -> 0.079007469 | P18: Golden State Metals | Q18: =SUMIFS(Data!E:E,Data!$C:$C,$P18,Data!$H:$H,Charts!$A$2) -> 52 | R18: =SUMIFS(Data!G:G,Data!$C:$C,$P18,Data!$H:$H,Charts!$A$2) -> 1480 | S18: =IF(Q18=0,0,R18/Q18) -> 28.461538 | T18: =R18/$R$27 -> 0.091352386 | W18: August | X18: {=SUM(IF(Data!$D$2:$D$51>=$AD18,Data!$E$2:$E$51,0))-SUM(IF(Data!$D$2:$D$51>=$AD19,Data!$E$2:$E$51,0))} -> 72 | Y18: {=SUM(IF(Data!$D$2:$D$51>=$AD18,Data!$G$2:$G$51,0))-SUM(IF(Data!$D$2:$D$51>=$AD19,Data!$G$2:$G$51,0))} -> 2112 | Z18: =SUM($X$11:$X18) -> 343 | AA18: =SUM($Y$11:$Y18) -> 12059 | AD18: =DATE(Charts!$A$2,8,1) -> 41487 | AE18: =DATE(Charts!$A$2,8,31) -> 41517
B19: Total | C19: =SUM(C11:C18) -> 534 | D19: =SUM(D11:D18) -> 16201 | E19: =D19/C19 -> 30.338951 | F19: =D19/$D$19 -> 1 | I19: Pipes | J19: =SUMIFS(Data!E:E,Data!$B:$B,$I19,Data!$H:$H,Charts!$A$2) -> 40 | K19: =SUMIFS(Data!G:G,Data!$B:$B,$I19,Data!$H:$H,Charts!$A$2) -> 880 | L19: =IF(J19=0,0,K19/J19) -> 22 | M19: =K19/$K$22 -> 0.054317635 | P19: Hal's Diecasting | Q19: =SUMIFS(Data!E:E,Data!$C:$C,$P19,Data!$H:$H,Charts!$A$2) -> 30 | R19: =SUMIFS(Data!G:G,Data!$C:$C,$P19,Data!$H:$H,Charts!$A$2) -> 180 | S19: =IF(Q19=0,0,R19/Q19) -> 6 | T19: =R19/$R$27 -> 0.011110425 | W19: September | X19: {=SUM(IF(Data!$D$2:$D$51>=$AD19,Data!$E$2:$E$51,0))-SUM(IF(Data!$D$2:$D$51>=$AD20,Data!$E$2:$E$51,0))} -> 75 | Y19: {=SUM(IF(Data!$D$2:$D$51>=$AD19,Data!$G$2:$G$51,0))-SUM(IF(Data!$D$2:$D$51>=$AD20,Data!$G$2:$G$51,0))} -> 1230 | Z19: =SUM($X$11:$X19) -> 418 | AA19: =SUM($Y$11:$Y19) -> 13289 | AD19: =DATE(Charts!$A$2,9,1) -> 41518 | AE19: =DATE(Charts!$A$2,9,30) -> 41547
I20: Wire | J20: =SUMIFS(Data!E:E,Data!$B:$B,$I20,Data!$H:$H,Charts!$A$2) -> 26 | K20: =SUMIFS(Data!G:G,Data!$B:$B,$I20,Data!$H:$H,Charts!$A$2) -> 252 | L20: =IF(J20=0,0,K20/J20) -> 9.6923077 | M20: =K20/$K$22 -> 0.015554595 | P20: Marin Steel | Q20: =SUMIFS(Data!E:E,Data!$C:$C,$P20,Data!$H:$H,Charts!$A$2) -> 50 | R20: =SUMIFS(Data!G:G,Data!$C:$C,$P20,Data!$H:$H,Charts!$A$2) -> 1248 | S20: =IF(Q20=0,0,R20/Q20) -> 24.96 | T20: =R20/$R$27 -> 0.077032282 | W20: October | X20: {=SUM(IF(Data!$D$2:$D$51>=$AD20,Data!$E$2:$E$51,0))-SUM(IF(Data!$D$2:$D$51>=$AD21,Data!$E$2:$E$51,0))} -> 5 | Y20: {=SUM(IF(Data!$D$2:$D$51>=$AD20,Data!$G$2:$G$51,0))-SUM(IF(Data!$D$2:$D$51>=$AD21,Data!$G$2:$G$51,0))} -> 295 | Z20: =SUM($X$11:$X20) -> 423 | AA20: =SUM($Y$11:$Y20) -> 13584 | AD20: =DATE(Charts!$A$2,10,1) -> 41548 | AE20: =DATE(Charts!$A$2,10,31) -> 41578
A21: Notes: | P21: National Recycling | Q21: =SUMIFS(Data!E:E,Data!$C:$C,$P21,Data!$H:$H,Charts!$A$2) -> 35 | R21: =SUMIFS(Data!G:G,Data!$C:$C,$P21,Data!$H:$H,Charts!$A$2) -> 1308 | S21: =IF(Q21=0,0,R21/Q21) -> 37.371429 | T21: =R21/$R$27 -> 0.080735757 | W21: November | X21: {=SUM(IF(Data!$D$2:$D$51>=$AD21,Data!$E$2:$E$51,0))-SUM(IF(Data!$D$2:$D$51>=$AD22,Data!$E$2:$E$51,0))} -> 89 | Y21: {=SUM(IF(Data!$D$2:$D$51>=$AD21,Data!$G$2:$G$51,0))-SUM(IF(Data!$D$2:$D$51>=$AD22,Data!$G$2:$G$51,0))} -> 2265 | Z21: =SUM($X$11:$X21) -> 512 | AA21: =SUM($Y$11:$Y21) -> 15849 | AD21: =DATE(Charts!$A$2,11,1) -> 41579 | AE21: =DATE(Charts!$A$2,11,30) -> 41608
A22: 1. | B22: =INDEX($B$11:$B$17,MATCH(MIN($D$11:$D$17),$D$11:$D$17,0))&" has the least revenue in "&Charts!$A$2&"." -> Brass has the least revenue in 2013. | I22: Total | J22: =SUM(J11:J21) -> 534 | K22: =SUM(K11:K21) -> 16201 | L22: =K22/J22 -> 30.338951 | M22: =K22/$K$22 -> 1 | P22: Oakland Automotive | Q22: =SUMIFS(Data!E:E,Data!$C:$C,$P22,Data!$H:$H,Charts!$A$2) -> 45 | R22: =SUMIFS(Data!G:G,Data!$C:$C,$P22,Data!$H:$H,Charts!$A$2) -> 945 | S22: =IF(Q22=0,0,R22/Q22) -> 21 | T22: =R22/$R$27 -> 0.058329733 | W22: December | X22: {=SUM(IF(Data!$D$2:$D$51>=$AD22,Data!$E$2:$E$51,0))-SUM(IF(Data!$D$2:$D$51>=$AD23,Data!$E$2:$E$51,0))} -> 22 | Y22: {=SUM(IF(Data!$D$2:$D$51>=$AD22,Data!$G$2:$G$51,0))-SUM(IF(Data!$D$2:$D$51>=$AD23,Data!$G$2:$G$51,0))} -> 352 | Z22: =SUM($X$11:$X22) -> 534 | AA22: =SUM($Y$11:$Y22) -> 16201 | AD22: =DATE(Charts!$A$2,12,1) -> 41609 | AE22: =DATE(Charts!$A$2,12,31) -> 41639
A23: =LEFT($A22,1)+1&"." -> 2. | B23: =INDEX($B$11:$B$17,MATCH(MAX($C$11:$C$17),$C$11:$C$17,0))&" has the most amount sold in "&Charts!$A$2&"." -> Steel has the most amount sold in 2013. | P23: Steel Recyclers | Q23: =SUMIFS(Data!E:E,Data!$C:$C,$P23,Data!$H:$H,Charts!$A$2) -> 47 | R23: =SUMIFS(Data!G:G,Data!$C:$C,$P23,Data!$H:$H,Charts!$A$2) -> 1255 | S23: =IF(Q23=0,0,R23/Q23) -> 26.702128 | T23: =R23/$R$27 -> 0.077464354 | AD23: =DATE(Charts!$A$2+1,1,1) -> 41640
A24: =LEFT($A23,1)+1&"." -> 3. | B24: =INDEX($B$11:$B$17,MATCH(MAX($F$11:$F$17),$F$11:$F$17,0))&" has the highest percentage of total revenue in "&Charts!$A$2&" ("&TEXT(MAX($F$11:$F$17),"00.0%")&")." -> Aluminum has the highest percentage of total revenue in 2013 (36.4%). | H24: Notes: | P24: Tom's Automotive Recycling | Q24: =SUMIFS(Data!E:E,Data!$C:$C,$P24,Data!$H:$H,Charts!$A$2) -> 42 | R24: =SUMIFS(Data!G:G,Data!$C:$C,$P24,Data!$H:$H,Charts!$A$2) -> 1932 | S24: =IF(Q24=0,0,R24/Q24) -> 46 | T24: =R24/$R$27 -> 0.1192519 | W24: Total | X24: =SUM(X11:X23) -> 534 | Y24: =SUM(Y11:Y23) -> 16201
H25: 1. | I25: =INDEX($I$11:$I$20,MATCH(MIN($K$11:$K$20),$K$11:$K$20,0))&" has the least revenue in "&Charts!$A$2&"." -> Wire has the least revenue in 2013. | P25: US Metals | Q25: =SUMIFS(Data!E:E,Data!$C:$C,$P25,Data!$H:$H,Charts!$A$2) -> 5 | R25: =SUMIFS(Data!G:G,Data!$C:$C,$P25,Data!$H:$H,Charts!$A$2) -> 295 | S25: =IF(Q25=0,0,R25/Q25) -> 59 | T25: =R25/$R$27 -> 0.018208753
H26: =LEFT($A22,1)+1&"." -> 2. | I26: =INDEX($I$11:$I$20,MATCH(MAX($J$11:$J$20),$J$11:$J$20,0))&" has the most amount sold in "&Charts!$A$2&"." -> Construction Debris has the most amount sold in 2013.
H27: =LEFT($A23,1)+1&"." -> 3. | I27: =INDEX($I$11:$I$20,MATCH(MAX($M$11:$M$20),$M$11:$M$20,0))&" has the highest percentage of total revenue in "&Charts!$A$2&" ("&TEXT(MAX($M$11:$M$20),"00.0%")&")." -> Construction Debris has the highest percentage of total revenue in 2013 (24.9%). | P27: Total | Q27: =SUM(Q11:Q26) -> 534 | R27: =SUM(R11:R26) -> 16201 | S27: =R27/Q27 -> 30.338951 | T27: =R27/$R$27 -> 1
O29: Notes:
O30: 1. | P30: =INDEX($B$11:$B$17,MATCH(MIN($D$11:$D$17),$D$11:$D$17,0))&" has the least revenue in "&Charts!$A$2&"." -> Brass has the least revenue in 2013.
O31: =LEFT($A22,1)+1&"." -> 2. | P31: =INDEX($B$11:$B$17,MATCH(MAX($C$11:$C$17),$C$11:$C$17,0))&" has the most amount sold in "&Charts!$A$2&"." -> Steel has the most amount sold in 2013.
O32: =LEFT($A23,1)+1&"." -> 3. | P32: =INDEX($B$11:$B$17,MATCH(MAX($F$11:$F$17),$F$11:$F$17,0))&" has the highest percentage of total revenue in "&Charts!$A$2&" ("&TEXT(MAX($F$11:$F$17),"00.0%")&")." -> Aluminum has the highest percentage of total revenue in 2013 (36.4%).

Sheet Charts
A1: ="Amount Sold and % of Total Revenue during "&$A$2 -> Amount Sold and % of Total Revenue during 2013
A2: 2013

Sheet Pivot-Amt in Tons_Total Rev
A1: Row Labels | B1: Sum of Amount in tons | C1: Sum of Total Revenue
A2: Aluminum | B2: 293 | C2: 15887
A3: Brass | B3: 40 | C3: 658
A4: Copper | B4: 149 | C4: 4525
A5: Iron | B5: 164 | C5: 5679
A6: Nickel | B6: 110 | C6: 5076
A7: Steel | B7: 432 | C7: 16093
A8: Tin | B8: 68 | C8: 3401
A9: Grand Total | B9: 1256 | C9: 51319

Sheet Pivot-Total Revenue
A1: Row Labels | B1: Sum of Total Revenue
A2: 2012
A3: Feb | B3: 360
A4: Dec | B4: 1524
A5: 2013
A6: Jan | B6: 4891
A7: Feb | B7: 900
A8: Mar | B8: 1976
A9: Apr | B9: 252
A10: May | B10: 1153
A11: Jun | B11: 775
A12: Aug | B12: 2112
A13: Sep | B13: 1230
A14: Oct | B14: 295
A15: Nov | B15: 2265
A16: Dec | B16: 352
A17: 2014
A18: Jan | B18: 1710
A19: Feb | B19: 7205
A20: Mar | B20: 3188
A21: Apr | B21: 3381
A22: May | B22: 1568
A23: Jun | B23: 3222
A24: Jul | B24: 1940
A25: Sep | B25: 5045
A26: Oct | B26: 1834
A27: Nov | B27: 901
A28: Dec | B28: 3240
A29: Grand Total | B29: 51319

Sheet Dashboard
A1: Row Labels | B1: Sum of Amount in tons | C1: Sum of Total Revenue
A2: Aluminum | B2: 293 | C2: 15887
A3: Brass | B3: 40 | C3: 658
A4: Copper | B4: 149 | C4: 4525
A5: Iron | B5: 164 | C5: 5679
A6: Nickel | B6: 110 | C6: 5076
A7: Steel | B7: 432 | C7: 16093
A8: Tin | B8: 68 | C8: 3401
A9: Grand Total | B9: 1256 | C9: 51319
A11: Row Labels | B11: Sum of Amount in tons | C11: Sum of Total Revenue
A12: Steel | B12: 432 | C12: 16093
A13: Aluminum | B13: 293 | C13: 15887
A14: Iron | B14: 164 | C14: 5679
A15: Copper | B15: 149 | C15: 4525
A16: Nickel | B16: 110 | C16: 5076
A17: Tin | B17: 68 | C17: 3401
A18: Brass | B18: 40 | C18: 658
A19: Grand Total | B19: 1256 | C19: 51319
